BEGIN:VCALENDAR
VERSION:2.0
PRODID:-//ChamberMaster//Event Calendar 2.0//EN
METHOD:PUBLISH
X-PUBLISHED-TTL:P3D
REFRESH-INTERVAL:P3D
CALSCALE:GREGORIAN
BEGIN:VEVENT
DTSTART:20130321T120000Z
DTEND:20130321T130000Z
X-MICROSOFT-CDO-ALLDAYEVENT:FALSE
SUMMARY:Breakfast
DESCRIPTION:TCB Breakfast for Member\n\n	\n\n	Come network and enjoy breakfast/coffee
X-ALT-DESC;FMTTYPE=text/html:<div style="text-align: center\;">\n	<strong>TCB Breakfast for Member<br />\n	<br />\n	Come network and enjoy breakfast/coffee</strong></div>\n
LOCATION:45 East Side Square Canton\, IL 61520
UID:e.1688.2
SEQUENCE:3
DTSTAMP:20260421T010314Z
URL:http://members.cantonillinois.org/events/details/breakfast-03-21-2013-2
END:VEVENT

END:VCALENDAR
