BEGIN:VCALENDAR
VERSION:2.0
PRODID:-//ChamberMaster//Event Calendar 2.0//EN
METHOD:PUBLISH
X-PUBLISHED-TTL:P3D
REFRESH-INTERVAL:P3D
CALSCALE:GREGORIAN
BEGIN:VEVENT
DTSTART:20271216T230000Z
DTEND:20271217T010000Z
X-MICROSOFT-CDO-ALLDAYEVENT:FALSE
SUMMARY:Business After Hours
DESCRIPTION:Business After Hours
X-ALT-DESC;FMTTYPE=text/html:Business After Hours&nbsp\;
LOCATION:More information to come
UID:e.1688.3019
SEQUENCE:3
DTSTAMP:20260420T140005Z
URL:http://members.cantonillinois.org/events/details/business-after-hours-12-16-2027-3019
END:VEVENT

END:VCALENDAR
