BEGIN:VCALENDAR
VERSION:2.0
PRODID:-//ChamberMaster//Event Calendar 2.0//EN
METHOD:PUBLISH
X-PUBLISHED-TTL:P3D
REFRESH-INTERVAL:P3D
CALSCALE:GREGORIAN
BEGIN:VEVENT
DTSTART:20150314T120000Z
DTEND:20150314T150000Z
X-MICROSOFT-CDO-ALLDAYEVENT:FALSE
SUMMARY:Farmer's Share Breakfast
DESCRIPTION:To help celebrate Agriculture Week and to recognize farmers and their contribution to our county\, Fulton County Farm Bureau Volunteers are hosting a Farmer's Share Breakfast on Saturday\, March 14th.\n\n \n\nThe breakfast runs from 7:00 am to 10:00 am at the Fulton County Farm Bureau Building in Lewistown.  The cost has been set at 64 \, which represents the farmer's share of income for the commodities used in the meal.\n\n \n\nThe menu for the breakfast will be bacon\, toast\, pancakes\, biscuits and gravy\, scrambled eggs\, orange juice\, milk and coffee.
X-ALT-DESC;FMTTYPE=text/html:To help celebrate Agriculture Week and to recognize farmers and their contribution to our county\, Fulton County Farm Bureau Volunteers are hosting a Farmer&rsquo\;s Share Breakfast on Saturday\, March 14<sup>th</sup>.<br />\n&nbsp\;<br />\nThe breakfast runs from 7:00 am to 10:00 am at the Fulton County Farm Bureau Building in Lewistown.&nbsp\; The cost has been set at 64&cent\;\, which represents the farmer&rsquo\;s share of income for the commodities used in the meal.<br />\n&nbsp\;<br />\nThe menu for the breakfast will be bacon\, toast\, pancakes\, biscuits and gravy\, scrambled eggs\, orange juice\, milk and coffee.&nbsp\;&nbsp\;
LOCATION:Fulton County Farm Bureau Building in Lewistown
UID:e.1688.1220
SEQUENCE:3
DTSTAMP:20260424T230036Z
URL:http://members.cantonillinois.org/events/details/farmer-s-share-breakfast-03-14-2015-1220
END:VEVENT

END:VCALENDAR
