BEGIN:VCALENDAR
VERSION:2.0
PRODID:-//ChamberMaster//Event Calendar 2.0//EN
METHOD:PUBLISH
X-PUBLISHED-TTL:P3D
REFRESH-INTERVAL:P3D
CALSCALE:GREGORIAN
BEGIN:VEVENT
DTSTART:20130319T123000Z
DTEND:20130319T140000Z
X-MICROSOFT-CDO-ALLDAYEVENT:FALSE
SUMMARY:Member Appreciation Breakfast
DESCRIPTION:Come for a Networking Event!\n\n\n\nEnjoy a FREE breakfast catered by McDonald's in Canton. Learn about new Membership Benefits and about Chamber-related events to come over the next few months. Come for cofee and breakfast or just for the company of your fellow Chamber members!
X-ALT-DESC;FMTTYPE=text/html:Come for a Networking Event!<br />\n<br />\nEnjoy a FREE breakfast catered by McDonald&#39\;s in Canton. Learn about new Membership Benefits and about Chamber-related events to come over the next few months. Come for cofee and breakfast or just for the company of your fellow Chamber members!
LOCATION:Canton Park District's Donaldson Center
UID:e.1688.3
SEQUENCE:3
DTSTAMP:20260419T195334Z
URL:http://members.cantonillinois.org/events/details/member-appreciation-breakfast-03-19-2013-3
END:VEVENT

END:VCALENDAR
