BEGIN:VCALENDAR
VERSION:2.0
PRODID:-//ChamberMaster//Event Calendar 2.0//EN
METHOD:PUBLISH
X-PUBLISHED-TTL:P3D
REFRESH-INTERVAL:P3D
CALSCALE:GREGORIAN
BEGIN:VEVENT
DTSTART;VALUE=DATE:20130809
DTEND;VALUE=DATE:20130810
TRANSP:TRANSPARENT
X-MICROSOFT-CDO-ALLDAYEVENT:TRUE
SUMMARY:Spoon River College Golf Outing
DESCRIPTION:
X-ALT-DESC;FMTTYPE=text/html:
LOCATION:Wee-Ma-Tuk Hills Country Club
UID:e.1688.38
SEQUENCE:3
DTSTAMP:20260421T081124Z
URL:http://members.cantonillinois.org/events/details/spoon-river-college-golf-outing-08-09-2013-38
END:VEVENT

END:VCALENDAR
