BEGIN:VCALENDAR
VERSION:2.0
PRODID:-//ChamberMaster//Event Calendar 2.0//EN
METHOD:PUBLISH
X-PUBLISHED-TTL:P3D
REFRESH-INTERVAL:P3D
CALSCALE:GREGORIAN
BEGIN:VEVENT
DTSTART:20211010T183000Z
DTEND:20211010T193000Z
X-MICROSOFT-CDO-ALLDAYEVENT:FALSE
SUMMARY:10 Warning Signs of Alzheimer's PLUS Ten Football FUNdamentals to Boost your Football IQ
DESCRIPTION:Join us to learn more about memory loss\, dementia and the many resources available to you from the Alzheimer's Association. Tackle the stigma of Alzheimer's by learning the 10 warning signs. Next\, Coach Suzanne shares 10 Tips to Increase Your Football IQ. You'll build lifelong memories by getting into the game with the pig-skin lovin' people in your life! Suzanne Stoneall is a gifted speaker and former NFL employee who loves to break down the game of football for everyone in a fun and entertaining way. Pre-register for any program and receive Suzanne Stoneall's Tasty Tailgate Recipes Register by phone 800.272.3900 or Online bit.ly/3DaXwqp
X-ALT-DESC;FMTTYPE=text/html:Join us to learn more about memory loss\, dementia and the many resources available to you from the Alzheimer&rsquo\;s Association. Tackle the stigma of Alzheimer&rsquo\;s by learning the 10 warning signs. Next\, Coach Suzanne shares 10 Tips to Increase Your Football IQ. You&rsquo\;ll build lifelong memories by getting into the game with the pig-skin lovin&rsquo\; people in your life! Suzanne Stoneall is a gifted speaker and former NFL employee who loves to break down the game of football for everyone in a fun and entertaining way. Pre-register for any program and receive Suzanne Stoneall&rsquo\;s Tasty Tailgate Recipes Register by phone 800.272.3900 or Online bit.ly/3DaXwqp
LOCATION:Join us for an education program via phone or online
UID:e.1688.7663
SEQUENCE:3
DTSTAMP:20260422T070815Z
URL:https://members.cantonillinois.org/events/details/10-warning-signs-of-alzheimer-s-plus-ten-football-fundamentals-to-boost-your-football-iq-7663
END:VEVENT

END:VCALENDAR
