BEGIN:VCALENDAR
VERSION:2.0
PRODID:-//ChamberMaster//Event Calendar 2.0//EN
METHOD:PUBLISH
X-PUBLISHED-TTL:P3D
REFRESH-INTERVAL:P3D
CALSCALE:GREGORIAN
BEGIN:VEVENT
DTSTART:20201010T230000Z
DTEND:20201011T003000Z
X-MICROSOFT-CDO-ALLDAYEVENT:FALSE
SUMMARY:10 Warning Signs of Alzheimer's Webinar
DESCRIPTION:Join us for an education program via Phone or Online! Join us to learn more about memory loss\, dementia and the many resources available to you from the Alzheimer's Association. To register\, please call 800.272.3900 or Registration Link: https://www.communityresourcefinder.org/ResourceView/Index?id=1977105&profileDefinitionId=93
X-ALT-DESC;FMTTYPE=text/html:Join us for an education program via Phone or Online! Join us to learn more about memory loss\, dementia and the many resources available to you from the Alzheimer&rsquo\;s Association. To register\, please call 800.272.3900 or Registration Link: https://www.communityresourcefinder.org/ResourceView/Index?id=1977105&amp\;profileDefinitionId=93
LOCATION:webinar
UID:e.1688.7476
SEQUENCE:3
DTSTAMP:20260420T023209Z
URL:https://members.cantonillinois.org/events/details/10-warning-signs-of-alzheimer-s-webinar-10-10-2020-7476
END:VEVENT

END:VCALENDAR
