BEGIN:VCALENDAR
VERSION:2.0
PRODID:-//ChamberMaster//Event Calendar 2.0//EN
METHOD:PUBLISH
X-PUBLISHED-TTL:P3D
REFRESH-INTERVAL:P3D
CALSCALE:GREGORIAN
BEGIN:VEVENT
DTSTART:20231230T180000Z
DTEND:20231230T190000Z
X-MICROSOFT-CDO-ALLDAYEVENT:FALSE
SUMMARY:1956 CHS Class Gathering
DESCRIPTION:Canton Senior High School Class of 1956 will meet for lunch at noon on Saturday\, December 30th\, at Country Line Bar & Grill\, 725 W. Locust Street in Canton.
X-ALT-DESC;FMTTYPE=text/html:<b data-event-added="1" style="color: rgb(36\, 36\, 36)\; font-family: &quot\;Helvetica Neue&quot\;\, Helvetica\, Arial\, sans-serif\; font-size: 16px\; background-color: rgb(255\, 255\, 255)\;">Canton Senior High School Class of 1956 will meet for&nbsp\;<span class="HQEo7" data-markjs="true" role="link" style="border-width: 0px 0px 1px\; border-top-style: initial\; border-right-style: initial\; border-bottom-style: dashed\; border-left-style: initial\; border-top-color: initial\; border-right-color: initial\; border-bottom-color: var(--themePrimary)\; border-left-color: initial\; border-image: initial\; font: inherit\; margin: 0px\; padding: 1px 0px\; vertical-align: baseline\; color: var(--themePrimary)\; cursor: pointer\;" tabindex="0">lunch at noon</span>&nbsp\;on Saturday\, December 30th\, at Country Line Bar &amp\; Grill\, 725 W. Locust Street in Canton.</b>
LOCATION:Country Line Bar & Grill 725 W. Locust in Canton
UID:e.1688.8093
SEQUENCE:3
DTSTAMP:20260420T065628Z
URL:https://members.cantonillinois.org/events/details/1956-chs-class-gathering-8093
END:VEVENT

END:VCALENDAR
