BEGIN:VCALENDAR
VERSION:2.0
PRODID:-//ChamberMaster//Event Calendar 2.0//EN
METHOD:PUBLISH
X-PUBLISHED-TTL:P3D
REFRESH-INTERVAL:P3D
CALSCALE:GREGORIAN
BEGIN:VEVENT
DTSTART:20211209T230000Z
DTEND:20211210T023000Z
X-MICROSOFT-CDO-ALLDAYEVENT:FALSE
SUMMARY:2021 Central Illinois Business Awards & Recognition
DESCRIPTION:BBB presents 2021 Central Illinois Business Awards & Recognition
X-ALT-DESC;FMTTYPE=text/html:BBB presents 2021 Central Illinois Business Awards &amp\; Recognition
LOCATION:The Warehouse on State in Peoria
UID:e.1688.7627
SEQUENCE:3
DTSTAMP:20260422T014911Z
URL:https://members.cantonillinois.org/events/details/2021-central-illinois-business-awards-recognition-7627
END:VEVENT

END:VCALENDAR
