BEGIN:VCALENDAR
VERSION:2.0
PRODID:-//ChamberMaster//Event Calendar 2.0//EN
METHOD:PUBLISH
X-PUBLISHED-TTL:P3D
REFRESH-INTERVAL:P3D
CALSCALE:GREGORIAN
BEGIN:VEVENT
DTSTART:20240608T210000Z
DTEND:20240609T040000Z
X-MICROSOFT-CDO-ALLDAYEVENT:FALSE
SUMMARY:56th Annual Dunfermline Chicken and Fish Fry
DESCRIPTION:Chicken and Fish Fry serving 4pm - 8pm with Live music 4pm - 11pm
X-ALT-DESC;FMTTYPE=text/html:Chicken and Fish Fry serving 4pm - 8pm with Live music 4pm - 11pm
LOCATION:Dunfermline\, IL
UID:e.1688.8185
SEQUENCE:3
DTSTAMP:20260419T202451Z
URL:https://members.cantonillinois.org/events/details/56th-annual-dunfermline-chicken-and-fish-fry-8185
END:VEVENT

END:VCALENDAR
