BEGIN:VCALENDAR
VERSION:2.0
PRODID:-//ChamberMaster//Event Calendar 2.0//EN
METHOD:PUBLISH
X-PUBLISHED-TTL:P3D
REFRESH-INTERVAL:P3D
CALSCALE:GREGORIAN
BEGIN:VEVENT
DTSTART:20240214T190000Z
DTEND:20240214T210000Z
X-MICROSOFT-CDO-ALLDAYEVENT:FALSE
SUMMARY:Ash Wednesday at Shields Chapel United Methodist Church
DESCRIPTION:Ashes will be given at  at Shields Chapel United Methodist Church\, 19044 E. Shields Chapel Lane\, west of Canton\, from 1 pm until 3 pm on Ash Wednesday\, February 14\, 2024.
X-ALT-DESC;FMTTYPE=text/html:<b style="color: rgb(66\, 66\, 66)\; font-family: &quot\;Helvetica Neue&quot\;\, Helvetica\, Arial\, sans-serif\; font-size: 16px\;">Ashes will be given at&nbsp\; at Shields Chapel United Methodist Church\, 19044 E. Shields Chapel Lane\, west of Canton\, from 1 pm until 3 pm on Ash Wednesday\, February 14\, 2024.&nbsp\;</b>
LOCATION:Shields Chapel United Methodist Church 19044 E. Shields Chapel Lane
UID:e.1688.8172
SEQUENCE:3
DTSTAMP:20260420T034449Z
URL:https://members.cantonillinois.org/events/details/ash-wednesday-at-shields-chapel-united-methodist-church-8172
END:VEVENT

END:VCALENDAR
