BEGIN:VCALENDAR
VERSION:2.0
PRODID:-//ChamberMaster//Event Calendar 2.0//EN
METHOD:PUBLISH
X-PUBLISHED-TTL:P3D
REFRESH-INTERVAL:P3D
CALSCALE:GREGORIAN
BEGIN:VEVENT
DTSTART:20240214T150000Z
DTEND:20240214T180000Z
X-MICROSOFT-CDO-ALLDAYEVENT:FALSE
SUMMARY:Ash Wednesday at South Park United Methodist Church
DESCRIPTION:Ashes will be given at South Park United Methodist Church\, 600 S. 1st Avenue in Canton\, from 9 am until noon
X-ALT-DESC;FMTTYPE=text/html:<b style="color: rgb(66\, 66\, 66)\; font-family: &quot\;Helvetica Neue&quot\;\, Helvetica\, Arial\, sans-serif\; font-size: 16px\;">Ashes will be given at South Park United Methodist Church\, 600 S. 1st Avenue in Canton\, from 9 am until noon&nbsp\;</b>
LOCATION:South Park Methodist Church 600 S. 1st Avenue Canton IL 61520
UID:e.1688.8178
SEQUENCE:3
DTSTAMP:20260420T034552Z
URL:https://members.cantonillinois.org/events/details/ash-wednesday-at-south-park-united-methodist-church-8178
END:VEVENT

END:VCALENDAR
