BEGIN:VCALENDAR
VERSION:2.0
PRODID:-//ChamberMaster//Event Calendar 2.0//EN
METHOD:PUBLISH
X-PUBLISHED-TTL:P3D
REFRESH-INTERVAL:P3D
CALSCALE:GREGORIAN
BEGIN:VEVENT
DTSTART:20181030T140000Z
DTEND:20181030T143000Z
X-MICROSOFT-CDO-ALLDAYEVENT:FALSE
SUMMARY:Baby Storytime
DESCRIPTION:Baby Storytime is a five week program for children newborn - 18 months and their caregiver. Come enjoy a sensory rich enviroment. We will enjoy songs\, stories and other activities. \n\n\n\nThis program will foster an appreciation for literacy and focus on the loving relationship between adult and child.
X-ALT-DESC;FMTTYPE=text/html:Baby Storytime is a five week program for children newborn - 18 months and their caregiver. Come enjoy a sensory rich enviroment. We will enjoy songs\, stories and other activities.&nbsp\;<br />\n<br />\nThis program will foster an appreciation for literacy and focus on the loving relationship between adult and child.
LOCATION:Parlin Ingersoll Library - West Chestnut & Avenue B in Canton
UID:e.1688.5731
SEQUENCE:3
DTSTAMP:20260426T031420Z
URL:https://members.cantonillinois.org/events/details/baby-storytime-5731
END:VEVENT

END:VCALENDAR
