BEGIN:VCALENDAR
VERSION:2.0
PRODID:-//ChamberMaster//Event Calendar 2.0//EN
METHOD:PUBLISH
X-PUBLISHED-TTL:P3D
REFRESH-INTERVAL:P3D
CALSCALE:GREGORIAN
BEGIN:VEVENT
DTSTART:20181014T000000Z
DTEND:20181014T023000Z
X-MICROSOFT-CDO-ALLDAYEVENT:FALSE
SUMMARY:Ballroom Dance Workshop for Fulton Mason Crisis Service
DESCRIPTION:Come out for an evening of fun for a great cause! Have you ever wanted to learn how to dance? Looking for something different to do? Are you fan of "Dancing with the Stars"? Professional Ballroom Dancer Jon Young will teach you some of the basic moves for the common ballroom styles. By the end of the night\, you will know the basic steps for the Waltz\, Fox Trot\, and Rumba. All proceeds will go to the Fulton Mason Crisis Service $20/couple To register as a single ($10)\, email Lindsey@thebreathingtree.net We will also be collecting household cleaning supplies for the FMCS at our event.
X-ALT-DESC;FMTTYPE=text/html:Come out for an evening of fun for a great cause! Have you ever wanted to learn how to dance? Looking for something different to do? Are you fan of &ldquo\;Dancing with the Stars&rdquo\;? Professional Ballroom Dancer Jon Young will teach you some of the basic moves for the common ballroom styles. By the end of the night\, you will know the basic steps for the Waltz\, Fox Trot\, and Rumba. All proceeds will go to the Fulton Mason Crisis Service $20/couple To register as a single ($10)\, email Lindsey@thebreathingtree.net We will also be collecting household cleaning supplies for the FMCS at our event.
LOCATION:The Breathing Tree
UID:e.1688.5769
SEQUENCE:3
DTSTAMP:20260426T031806Z
URL:https://members.cantonillinois.org/events/details/ballroom-dance-workshop-for-fulton-mason-crisis-service-5769
END:VEVENT

END:VCALENDAR
