BEGIN:VCALENDAR
VERSION:2.0
PRODID:-//ChamberMaster//Event Calendar 2.0//EN
METHOD:PUBLISH
X-PUBLISHED-TTL:P3D
REFRESH-INTERVAL:P3D
CALSCALE:GREGORIAN
BEGIN:VEVENT
DTSTART:20181018T220000Z
DTEND:20181019T000000Z
X-MICROSOFT-CDO-ALLDAYEVENT:FALSE
SUMMARY:Business After Hours
DESCRIPTION:Business After Hours
X-ALT-DESC;FMTTYPE=text/html:Business After Hours&nbsp\;
LOCATION:Hosted by Fulton County Rehabilitation Center 500 Main Street in Canton
UID:e.1688.2909
SEQUENCE:3
DTSTAMP:20260426T031552Z
URL:https://members.cantonillinois.org/events/details/business-after-hours-10-18-2018-2909
END:VEVENT

END:VCALENDAR
