BEGIN:VCALENDAR
VERSION:2.0
PRODID:-//ChamberMaster//Event Calendar 2.0//EN
METHOD:PUBLISH
X-PUBLISHED-TTL:P3D
REFRESH-INTERVAL:P3D
CALSCALE:GREGORIAN
BEGIN:VEVENT
DTSTART:20200927T170000Z
DTEND:20200927T210000Z
X-MICROSOFT-CDO-ALLDAYEVENT:FALSE
SUMMARY:CANCELLED - Taste of Canton
DESCRIPTION:SEE YOU NEXT YEAR!\n\n\n\nTaste of Canton \n\nCome and enjoy wonderful samplings of food from local and area restaurants food trucks. \n\n***This event has been moved to a Sunday this year!***
X-ALT-DESC;FMTTYPE=text/html:SEE YOU NEXT YEAR!<br />\n<br />\nTaste of Canton&nbsp\;<br />\nCome and enjoy wonderful samplings of food from local and area restaurants food trucks.&nbsp\;<br />\n***This event has been moved to a Sunday this year!***
LOCATION:Big Creek Park - north end
UID:e.1688.7043
SEQUENCE:3
DTSTAMP:20260424T063736Z
URL:https://members.cantonillinois.org/events/details/cancelled-taste-of-canton-7043
END:VEVENT

END:VCALENDAR
