BEGIN:VCALENDAR
VERSION:2.0
PRODID:-//ChamberMaster//Event Calendar 2.0//EN
METHOD:PUBLISH
X-PUBLISHED-TTL:P3D
REFRESH-INTERVAL:P3D
CALSCALE:GREGORIAN
BEGIN:VEVENT
DTSTART:20230127T220000Z
DTEND:20230128T010000Z
X-MICROSOFT-CDO-ALLDAYEVENT:FALSE
SUMMARY:Canton Ag Council Pancake Supper
DESCRIPTION:
X-ALT-DESC;FMTTYPE=text/html:
LOCATION:Canton High School Cafeteria
UID:e.1688.7877
SEQUENCE:3
DTSTAMP:20260421T041417Z
URL:https://members.cantonillinois.org/events/details/canton-ag-council-pancake-supper-01-27-2023-7877
END:VEVENT

END:VCALENDAR
