BEGIN:VCALENDAR
VERSION:2.0
PRODID:-//ChamberMaster//Event Calendar 2.0//EN
METHOD:PUBLISH
X-PUBLISHED-TTL:P3D
REFRESH-INTERVAL:P3D
CALSCALE:GREGORIAN
BEGIN:VEVENT
DTSTART:20220315T223000Z
DTEND:20220316T000000Z
X-MICROSOFT-CDO-ALLDAYEVENT:FALSE
SUMMARY:Canton Area Chamber Young Professionals Quarterly Social
DESCRIPTION:Canton Area Chamber Young Professionals - Quarterly Social\n\n\n\nQuarterly Social will be at the Storm Shelter Pub in Avon \n\n\n\nAxe throwing\, golf simulator\, skeeter ball\, outdoor space (if nice) \n\n\n\nNetworking with other young professionals \n\n\n\nCar pooling available - contact Chase Shawgo - Social Committee Chair
X-ALT-DESC;FMTTYPE=text/html:<span style="font-size:18px\;"><span style="font-family:tahoma\;">Canton Area Chamber Young Professionals - Quarterly Social</span></span><br />\n<br />\n<span style="font-size:14px\;">Quarterly Social will be at the Storm Shelter Pub in Avon&nbsp\;<br />\n<br />\nAxe throwing\, golf simulator\, skeeter ball\, outdoor space (if nice)&nbsp\;<br />\n<br />\nNetworking with other young professionals&nbsp\;<br />\n<br />\nCar pooling available - contact Chase Shawgo - Social Committee Chair</span>
LOCATION:Storm Shelter Pub 102 N. Main Street in Avon https://www.facebook.com/stormshelterpub/
UID:e.1688.7714
SEQUENCE:3
DTSTAMP:20260421T202630Z
URL:https://members.cantonillinois.org/events/details/canton-area-chamber-young-professionals-quarterly-social-7714
END:VEVENT

END:VCALENDAR
