BEGIN:VCALENDAR
VERSION:2.0
PRODID:-//ChamberMaster//Event Calendar 2.0//EN
METHOD:PUBLISH
X-PUBLISHED-TTL:P3D
REFRESH-INTERVAL:P3D
CALSCALE:GREGORIAN
BEGIN:VEVENT
DTSTART:20220625T123000Z
DTEND:20220625T163000Z
X-MICROSOFT-CDO-ALLDAYEVENT:FALSE
SUMMARY:Canton Farmer's Market
DESCRIPTION:We are a true\, growers market\, products that are allowed for sale are directly grown or baked or produced from produce or plants\, by the person who is setting up at the market. The market generally features for purchase fresh vegetables and fruits\, meat\, baked goods\, flowers and plants\, pumpkins\, gourds and more! Visitors can also enjoy live music\, free coffee (donations accepted)\, and kids? activities on select Saturdays!
X-ALT-DESC;FMTTYPE=text/html:<strong data-uw-styling-context="true" style="box-sizing: border-box\; color: rgb(105\, 105\, 105)\; font-family: &quot\;Myriad Pro&quot\;\, Helvetica\, Arial\, sans-serif\; font-size: 14px\; background-color: rgb(255\, 255\, 255)\;">We are a true\, growers market\, products that are allowed for sale are directly grown or baked or produced from produce or plants\, by the person who is setting up at the market.&nbsp\;</strong><span style="color: rgb(105\, 105\, 105)\; font-family: &quot\;Myriad Pro&quot\;\, Helvetica\, Arial\, sans-serif\; font-size: 14px\; background-color: rgb(255\, 255\, 255)\;">The market generally features for purchase fresh vegetables and fruits\, meat\, baked goods\, flowers and plants\, pumpkins\, gourds and more! Visitors can also enjoy live music\, free coffee (donations accepted)\, and kids? activities on select Saturdays!</span>
LOCATION:Jones Park\, Canton\, IL
UID:e.1688.7740
SEQUENCE:3
DTSTAMP:20260421T151307Z
URL:https://members.cantonillinois.org/events/details/canton-farmer-s-market-06-25-2022-7740
END:VEVENT

END:VCALENDAR
