BEGIN:VCALENDAR
VERSION:2.0
PRODID:-//ChamberMaster//Event Calendar 2.0//EN
METHOD:PUBLISH
X-PUBLISHED-TTL:P3D
REFRESH-INTERVAL:P3D
CALSCALE:GREGORIAN
BEGIN:VEVENT
DTSTART:20240614T160000Z
DTEND:20240614T190000Z
X-MICROSOFT-CDO-ALLDAYEVENT:FALSE
SUMMARY:Canton Fireworks Fundraiser Cookout
DESCRIPTION:Join us at our Annual Canton Fireworks Fundraiser Cookout held on Friday\, June 14th from 11am-2pm at MidAmerica National Bank\, 100 West Elm Street in Canton. Pork chop sandwich\, chips\, and a drink is a $5 donation\; and hot dog\, chips\, and a drink is a $3 donation. All proceeds benefit the Canton Fireworks Fund\, and drive-thru lunch is available.
X-ALT-DESC;FMTTYPE=text/html:Join us at our Annual Canton Fireworks Fundraiser Cookout held on Friday\, June 14th from 11am-2pm at MidAmerica National Bank\, 100 West Elm Street in Canton. Pork chop sandwich\, chips\, and a drink is a $5 donation\; and hot dog\, chips\, and a drink is a $3 donation. All proceeds benefit the Canton Fireworks Fund\, and drive-thru lunch is available.
LOCATION:MidAmerica National Bank at 100 West Elm Street in Canton.
UID:e.1688.8246
SEQUENCE:3
DTSTAMP:20260419T214841Z
URL:https://members.cantonillinois.org/events/details/canton-fireworks-fundraiser-cookout-06-14-2024-8246
END:VEVENT

END:VCALENDAR
