BEGIN:VCALENDAR
VERSION:2.0
PRODID:-//ChamberMaster//Event Calendar 2.0//EN
METHOD:PUBLISH
X-PUBLISHED-TTL:P3D
REFRESH-INTERVAL:P3D
CALSCALE:GREGORIAN
BEGIN:VEVENT
DTSTART:20230616T160000Z
DTEND:20230616T190000Z
X-MICROSOFT-CDO-ALLDAYEVENT:FALSE
SUMMARY:Canton Fireworks Fundraiser Cookout
DESCRIPTION:Join us at our Annual Canton Fireworks Fundraiser Cookout! Enjoy a pork chop sandwich\, chips & drink for a $5 donation or a hot dog\, chips & drink for a $3 donation. All proceeds benefit the Canton Fireworks Fund and a drive-thru lunch line is available.
X-ALT-DESC;FMTTYPE=text/html:Join us at our Annual Canton Fireworks Fundraiser Cookout! Enjoy a pork chop sandwich\, chips &amp\; drink for a $5 donation or a hot dog\, chips &amp\; drink for a $3 donation. All proceeds benefit the Canton Fireworks Fund and a drive-thru lunch line is available.
LOCATION:MidAmerica National Bank\, 100 West Elm Street in Canton
UID:e.1688.7941
SEQUENCE:3
DTSTAMP:20260420T172010Z
URL:https://members.cantonillinois.org/events/details/canton-fireworks-fundraiser-cookout-06-16-2023-7941
END:VEVENT

END:VCALENDAR
