BEGIN:VCALENDAR
VERSION:2.0
PRODID:-//ChamberMaster//Event Calendar 2.0//EN
METHOD:PUBLISH
X-PUBLISHED-TTL:P3D
REFRESH-INTERVAL:P3D
CALSCALE:GREGORIAN
BEGIN:VEVENT
DTSTART:20220916T203000Z
DTEND:20220916T210000Z
X-MICROSOFT-CDO-ALLDAYEVENT:FALSE
SUMMARY:Canton Homecoming Parade
DESCRIPTION:Canton High School Homecoming Parade
X-ALT-DESC;FMTTYPE=text/html:Canton High School Homecoming Parade&nbsp\;&nbsp\;&nbsp\;&nbsp\;
LOCATION:Parade begins on South Main at Pine Street\, weaves downtown Canton onto Elm then the East side of the square onto 1st Avenue all the way back to CHS parking lot
UID:e.1688.7783
SEQUENCE:3
DTSTAMP:20260421T112350Z
URL:https://members.cantonillinois.org/events/details/canton-homecoming-parade-7783
END:VEVENT

END:VCALENDAR
