BEGIN:VCALENDAR
VERSION:2.0
PRODID:-//ChamberMaster//Event Calendar 2.0//EN
METHOD:PUBLISH
X-PUBLISHED-TTL:P3D
REFRESH-INTERVAL:P3D
CALSCALE:GREGORIAN
BEGIN:VEVENT
DTSTART:20230128T220000Z
DTEND:20230129T010000Z
X-MICROSOFT-CDO-ALLDAYEVENT:FALSE
SUMMARY:Canton Senior Class of 1956 Gathering
DESCRIPTION:The Canton Senior High School Class of 1956 will meet for supper at 4:00 pm on Saturday\, January 28th\, at Joe's Place in Norris.
X-ALT-DESC;FMTTYPE=text/html:<b style="color: rgb(66\, 66\, 66)\; font-family: &quot\;Helvetica Neue&quot\;\, Helvetica\, Arial\, sans-serif\; font-size: 16px\;">The Canton Senior High School Class of 1956 will meet for supper at 4:00 pm on Saturday\, January 28th\, at Joe&#39\;s Place in Norris.</b>
LOCATION:Joe's Place Norris\, IL
UID:e.1688.7880
SEQUENCE:3
DTSTAMP:20260421T022308Z
URL:https://members.cantonillinois.org/events/details/canton-senior-class-of-1956-gathering-7880
END:VEVENT

END:VCALENDAR
