BEGIN:VCALENDAR
VERSION:2.0
PRODID:-//ChamberMaster//Event Calendar 2.0//EN
METHOD:PUBLISH
X-PUBLISHED-TTL:P3D
REFRESH-INTERVAL:P3D
CALSCALE:GREGORIAN
BEGIN:VEVENT
DTSTART:20230826T170000Z
DTEND:20230826T170000Z
X-MICROSOFT-CDO-ALLDAYEVENT:FALSE
SUMMARY:Canton Senior High School Class of 1956
DESCRIPTION:The Canton Senior High School Class of 1956 will meet for lunch at noon on Saturday\, August 26th\, at WeeMaTuk Grill\, 15722 E. Kenabeck Trail\, Cuba
X-ALT-DESC;FMTTYPE=text/html:<b style="color: rgb(0\, 0\, 0)\; font-family: &quot\;Helvetica Neue&quot\;\, Helvetica\, Arial\, sans-serif\; font-size: 16px\;">The Canton Senior High School Class of 1956 will meet for lunch at noon on Saturday\, August 26th\, at WeeMaTuk Grill\, 15722 E. Kenabeck Trail\, Cuba&nbsp\;</b>
LOCATION:WeeMaTuk Grill 15722 E Kanabeck Trail\, Cuba IL
UID:e.1688.7996
SEQUENCE:3
DTSTAMP:20260420T154048Z
URL:https://members.cantonillinois.org/events/details/canton-senior-high-school-class-of-1956-7996
END:VEVENT

END:VCALENDAR
