BEGIN:VCALENDAR
VERSION:2.0
PRODID:-//ChamberMaster//Event Calendar 2.0//EN
METHOD:PUBLISH
X-PUBLISHED-TTL:P3D
REFRESH-INTERVAL:P3D
CALSCALE:GREGORIAN
BEGIN:VEVENT
DTSTART:20240831T170000Z
DTEND:20240831T170000Z
X-MICROSOFT-CDO-ALLDAYEVENT:FALSE
SUMMARY:Canton Senior High School Class of 1956
DESCRIPTION:The Canton Senior High School Class of 1956 will meet for lunch at noon on Saturday\, August 31st\, at Country Line Bar and Grill\, 725 W. Locust Street in Canton.
X-ALT-DESC;FMTTYPE=text/html:<div data-setdir="false" dir="ltr" style="border: 0px\; font-variant-numeric: inherit\; font-variant-east-asian: inherit\; font-variant-alternates: inherit\; font-variant-position: inherit\; font-stretch: inherit\; font-size: 16px\; line-height: inherit\; font-family: &quot\;Helvetica Neue&quot\;\, Helvetica\, Arial\, sans-serif\; font-optical-sizing: inherit\; font-size-adjust: inherit\; font-kerning: inherit\; font-feature-settings: inherit\; font-variation-settings: inherit\; margin: 0px\; padding: 0px\; vertical-align: baseline\; color: black\;"><b>The Canton Senior High School Class of 1956 will meet for lunch at noon on Saturday\, August 31st\, at Country Line Bar and Grill\, 725 W. Locust Street in Canton.</b></div>\n
LOCATION:Country Line Bar & Grill 725 W. Locust St. Canton IL 61520
UID:e.1688.8322
SEQUENCE:3
DTSTAMP:20260419T165754Z
URL:https://members.cantonillinois.org/events/details/canton-senior-high-school-class-of-1956-8322
END:VEVENT

END:VCALENDAR
