BEGIN:VCALENDAR
VERSION:2.0
PRODID:-//ChamberMaster//Event Calendar 2.0//EN
METHOD:PUBLISH
X-PUBLISHED-TTL:P3D
REFRESH-INTERVAL:P3D
CALSCALE:GREGORIAN
BEGIN:VEVENT
DTSTART:20220827T210000Z
DTEND:20220828T010000Z
X-MICROSOFT-CDO-ALLDAYEVENT:FALSE
SUMMARY:Central Illinois Art Gathering
DESCRIPTION:The Fulton County Arts\, is a 501(c)(3) nonprofit organization located in Canton\, Illinois. Our current community project is the Central Illinois Art Gathering\, aimed at removing barriers for engagement in underserved communities. Artists\, Growers\, and community members are welcome! Fulton Mason-Crisis Services & ROSC will be in attendance\, providing resources. Community projects will take place at the event\, with a bounce house for children.
X-ALT-DESC;FMTTYPE=text/html:The Fulton County Arts\, is a 501(c)(3) nonprofit organization located in Canton\, Illinois. Our current community project is the Central Illinois Art Gathering\, aimed at removing barriers for engagement in underserved communities. Artists\, Growers\, and community members are welcome! Fulton Mason-Crisis Services &amp\; ROSC will be in attendance\, providing resources. Community projects will take place at the event\, with a bounce house for children.
LOCATION:Big Creek Park in Canton
UID:e.1688.7806
SEQUENCE:3
DTSTAMP:20260421T113824Z
URL:https://members.cantonillinois.org/events/details/central-illinois-art-gathering-08-27-2022-7806
END:VEVENT

END:VCALENDAR
