BEGIN:VCALENDAR
VERSION:2.0
PRODID:-//ChamberMaster//Event Calendar 2.0//EN
METHOD:PUBLISH
X-PUBLISHED-TTL:P3D
REFRESH-INTERVAL:P3D
CALSCALE:GREGORIAN
BEGIN:VEVENT
DTSTART:20230430T210000Z
DTEND:20230430T223000Z
X-MICROSOFT-CDO-ALLDAYEVENT:FALSE
SUMMARY:CHS Honors Assembly
DESCRIPTION:Canton High School Honors Assembly
X-ALT-DESC;FMTTYPE=text/html:Canton High School Honors Assembly
LOCATION:Canton High School auditorium
UID:e.1688.7937
SEQUENCE:3
DTSTAMP:20260420T205517Z
URL:https://members.cantonillinois.org/events/details/chs-honors-assembly-7937
END:VEVENT

END:VCALENDAR
