BEGIN:VCALENDAR
VERSION:2.0
PRODID:-//ChamberMaster//Event Calendar 2.0//EN
METHOD:PUBLISH
X-PUBLISHED-TTL:P3D
REFRESH-INTERVAL:P3D
CALSCALE:GREGORIAN
BEGIN:VEVENT
DTSTART:20221211T223000Z
DTEND:20221212T003000Z
X-MICROSOFT-CDO-ALLDAYEVENT:FALSE
SUMMARY:CHS Madrigal Dinenr
DESCRIPTION:CHS Madrigal Singers Dinner
X-ALT-DESC;FMTTYPE=text/html:CHS Madrigal Singers Dinner
LOCATION:IMS Cafeteria
UID:e.1688.7788
SEQUENCE:3
DTSTAMP:20260421T041242Z
URL:https://members.cantonillinois.org/events/details/chs-madrigal-dinenr-7788
END:VEVENT

END:VCALENDAR
