BEGIN:VCALENDAR
VERSION:2.0
PRODID:-//ChamberMaster//Event Calendar 2.0//EN
METHOD:PUBLISH
X-PUBLISHED-TTL:P3D
REFRESH-INTERVAL:P3D
CALSCALE:GREGORIAN
BEGIN:VEVENT
DTSTART:20221211T003000Z
DTEND:20221211T020000Z
X-MICROSOFT-CDO-ALLDAYEVENT:FALSE
SUMMARY:CHS Madrigal Dinner
DESCRIPTION:Madrigal Dinner
X-ALT-DESC;FMTTYPE=text/html:Madrigal Dinner
LOCATION:IMS Cafeteria
UID:e.1688.7787
SEQUENCE:3
DTSTAMP:20260421T040949Z
URL:https://members.cantonillinois.org/events/details/chs-madrigal-dinner-7787
END:VEVENT

END:VCALENDAR
