BEGIN:VCALENDAR
VERSION:2.0
PRODID:-//ChamberMaster//Event Calendar 2.0//EN
METHOD:PUBLISH
X-PUBLISHED-TTL:P3D
REFRESH-INTERVAL:P3D
CALSCALE:GREGORIAN
BEGIN:VEVENT
DTSTART:20221210T200000Z
DTEND:20221210T220000Z
X-MICROSOFT-CDO-ALLDAYEVENT:FALSE
SUMMARY:CHS Madrigal Tea
DESCRIPTION:Madrigal Tea
X-ALT-DESC;FMTTYPE=text/html:Madrigal Tea
LOCATION:IMS Cafeteria
UID:e.1688.7786
SEQUENCE:3
DTSTAMP:20260421T055351Z
URL:https://members.cantonillinois.org/events/details/chs-madrigal-tea-7786
END:VEVENT

END:VCALENDAR
