BEGIN:VCALENDAR
VERSION:2.0
PRODID:-//ChamberMaster//Event Calendar 2.0//EN
METHOD:PUBLISH
X-PUBLISHED-TTL:P3D
REFRESH-INTERVAL:P3D
CALSCALE:GREGORIAN
BEGIN:VEVENT
DTSTART:20230430T200000Z
DTEND:20230430T204500Z
X-MICROSOFT-CDO-ALLDAYEVENT:FALSE
SUMMARY:CHS National Honors Society Induction Ceremony
DESCRIPTION:Canton High School National Honors Society Induction Ceremony
X-ALT-DESC;FMTTYPE=text/html:Canton High School National Honors Society Induction Ceremony
LOCATION:Canton High School auditorium
UID:e.1688.7938
SEQUENCE:3
DTSTAMP:20260420T210235Z
URL:https://members.cantonillinois.org/events/details/chs-national-honors-society-induction-ceremony-7938
END:VEVENT

END:VCALENDAR
