BEGIN:VCALENDAR
VERSION:2.0
PRODID:-//ChamberMaster//Event Calendar 2.0//EN
METHOD:PUBLISH
X-PUBLISHED-TTL:P3D
REFRESH-INTERVAL:P3D
CALSCALE:GREGORIAN
BEGIN:VEVENT
DTSTART:20221203T180000Z
DTEND:20221203T200000Z
X-MICROSOFT-CDO-ALLDAYEVENT:FALSE
SUMMARY:CHS SENIOR CLASS OF 1956 REUNION
DESCRIPTION:The Canton Senior High School Class of 1956 will meet at noon on Saturday\, December 3rd\, at WeeMaTuk Pro Shop\, 15722 E. Kenabeck Trail between Canton and Cuba.
X-ALT-DESC;FMTTYPE=text/html:<b style="color: rgb(38\, 40\, 42)\; font-family: &quot\;Helvetica Neue&quot\;\, Helvetica\, Arial\, sans-serif\; font-size: 16px\;">The Canton Senior High School Class of 1956 will meet at noon on Saturday\, December 3rd\, at WeeMaTuk Pro Shop\, 15722 E. Kenabeck Trail between Canton and Cuba.</b>
LOCATION:WeeMaTuk Pro Shop 15722 E. Kenabeck Trail
UID:e.1688.7865
SEQUENCE:3
DTSTAMP:20260421T041527Z
URL:https://members.cantonillinois.org/events/details/chs-senior-class-of-1956-reunion-7865
END:VEVENT

END:VCALENDAR
