BEGIN:VCALENDAR
VERSION:2.0
PRODID:-//ChamberMaster//Event Calendar 2.0//EN
METHOD:PUBLISH
X-PUBLISHED-TTL:P3D
REFRESH-INTERVAL:P3D
CALSCALE:GREGORIAN
BEGIN:VEVENT
DTSTART:20231210T210000Z
DTEND:20231210T230000Z
X-MICROSOFT-CDO-ALLDAYEVENT:FALSE
SUMMARY:Community Christmas Sing
DESCRIPTION:The South Park United Methodist Church\, located at 600 S. 1st Avenue in Canton\, will be holding a Community Christmas Sing at 3 pm on Sunday\, December 10.
X-ALT-DESC;FMTTYPE=text/html:<div data-setdir="false" dir="ltr" style="border: 0px\; font-variant-numeric: inherit\; font-variant-east-asian: inherit\; font-variant-alternates: inherit\; font-variant-position: inherit\; font-stretch: inherit\; font-size: 16px\; line-height: inherit\; font-family: &quot\;Helvetica Neue&quot\;\, Helvetica\, Arial\, sans-serif\; font-optical-sizing: inherit\; font-kerning: inherit\; font-feature-settings: inherit\; font-variation-settings: inherit\; margin: 0px\; padding: 0px\; vertical-align: baseline\; color: rgb(66\, 66\, 66)\;"><b>The South Park United Methodist Church\, located at 600 S. 1st Avenue in Canton\, will be holding a Community Christmas Sing at 3 pm on Sunday\, December 10.</b></div>\n\n<div>&nbsp\;</div>\n
LOCATION:South Park United Methodist Church 600 S. 1st Avenue Canton Il 61520
UID:e.1688.8077
SEQUENCE:3
DTSTAMP:20260420T065627Z
URL:https://members.cantonillinois.org/events/details/community-christmas-sing-8077
END:VEVENT

END:VCALENDAR
