BEGIN:VCALENDAR
VERSION:2.0
PRODID:-//ChamberMaster//Event Calendar 2.0//EN
METHOD:PUBLISH
X-PUBLISHED-TTL:P3D
REFRESH-INTERVAL:P3D
CALSCALE:GREGORIAN
BEGIN:VEVENT
DTSTART:20181018T223000Z
DTEND:20181018T231500Z
X-MICROSOFT-CDO-ALLDAYEVENT:FALSE
SUMMARY:Craft-tastic Day at the Library
DESCRIPTION:Make a craft at the Parlin Ingersoll Library and take it home. \n\nWe will be making a cool soda fountain magnet!\n\nFun for all ages!
X-ALT-DESC;FMTTYPE=text/html:Make a craft at the Parlin Ingersoll Library and take it home.&nbsp\;<br />\nWe will be making a cool soda fountain magnet!<br />\nFun for all ages!
LOCATION:Parlin Ingersoll Library West Chestnut & Avenue B in Canton
UID:e.1688.5725
SEQUENCE:3
DTSTAMP:20260426T031431Z
URL:https://members.cantonillinois.org/events/details/craft-tastic-day-at-the-library-5725
END:VEVENT

END:VCALENDAR
