BEGIN:VCALENDAR
VERSION:2.0
PRODID:-//ChamberMaster//Event Calendar 2.0//EN
METHOD:PUBLISH
X-PUBLISHED-TTL:P3D
REFRESH-INTERVAL:P3D
CALSCALE:GREGORIAN
BEGIN:VEVENT
DTSTART:20210528T170000Z
DTEND:20210528T180000Z
X-MICROSOFT-CDO-ALLDAYEVENT:FALSE
SUMMARY:Dementia Conversations Webinar
DESCRIPTION:When someone shows signs of dementia\, it's time to talk. Often\, conversations with family about changing behaviors can be challenging and uncomfortable. This program offers tips on how to have honest and caring conversations to address some of the most common issues. Topics covered in the program include:   Going to the doctor   Deciding when to stop driving   Making legal and financial plans To register\, please visit our website v here: https://bit.ly/2QtVVY Visit alz.org/CRF to explore additional education programs in your area
X-ALT-DESC;FMTTYPE=text/html:When someone shows signs of dementia\, it&rsquo\;s time to talk. Often\, conversations with family about changing behaviors can be challenging and uncomfortable. This program offers tips on how to have honest and caring conversations to address some of the most common issues. Topics covered in the program include: &raquo\; Going to the doctor &raquo\; Deciding when to stop driving &raquo\; Making legal and financial plans To register\, please visit our website v here: https://bit.ly/2QtVVY Visit alz.org/CRF to explore additional education programs in your area
LOCATION:Peoria Regional Office 614 W Glen Peoria \, Illinois
UID:e.1688.7576
SEQUENCE:3
DTSTAMP:20260422T150530Z
URL:https://members.cantonillinois.org/events/details/dementia-conversations-webinar-05-28-2021-7576
END:VEVENT

END:VCALENDAR
