BEGIN:VCALENDAR
VERSION:2.0
PRODID:-//ChamberMaster//Event Calendar 2.0//EN
METHOD:PUBLISH
X-PUBLISHED-TTL:P3D
REFRESH-INTERVAL:P3D
CALSCALE:GREGORIAN
BEGIN:VEVENT
DTSTART:20181013T133000Z
DTEND:20181014T220000Z
X-MICROSOFT-CDO-ALLDAYEVENT:FALSE
SUMMARY:Dickson Mounds Spoon River Valley Scenic Drive Activities
DESCRIPTION:Dickson Mounds Museum is a stop along the Spoon River Valley Scenic Drive. Visitors may enjoy the Museum's three floors of exhibits\, observation deck overlooking the Illinois and Spoon Rivers\, and the grounds. Learn what life was like on the Illinois frontier at the Rendezvous Encampment hosted by the Mackinaw Valley Longriffles. Admission to the Museum as well as all the Rendezvous Encampment is free. Donations are appreciated. Participants should dress appropriately for the weather as much of these activities will be held outdoors.
X-ALT-DESC;FMTTYPE=text/html:Dickson Mounds Museum is a stop along the Spoon River Valley Scenic Drive. Visitors may enjoy the Museum&#39\;s three floors of exhibits\, observation deck overlooking the Illinois and Spoon Rivers\, and the grounds. Learn what life was like on the Illinois frontier at the Rendezvous Encampment hosted by the Mackinaw Valley Longriffles. Admission to the Museum as well as all the Rendezvous Encampment is free. Donations are appreciated. Participants should dress appropriately for the weather as much of these activities will be held outdoors.
LOCATION:Dickson Mounds Museum 10956 N. Dickson Mounds Road Lewistown\, IL 61542
UID:e.1688.5747
SEQUENCE:3
DTSTAMP:20260426T031857Z
URL:https://members.cantonillinois.org/events/details/dickson-mounds-spoon-river-valley-scenic-drive-activities-10-13-2018-5747
END:VEVENT

END:VCALENDAR
