BEGIN:VCALENDAR
VERSION:2.0
PRODID:-//ChamberMaster//Event Calendar 2.0//EN
METHOD:PUBLISH
X-PUBLISHED-TTL:P3D
REFRESH-INTERVAL:P3D
CALSCALE:GREGORIAN
BEGIN:VEVENT
DTSTART:20181006T133000Z
DTEND:20181007T220000Z
X-MICROSOFT-CDO-ALLDAYEVENT:FALSE
SUMMARY:Dickson Mounds Spoon River Valley Scenic Drive Activities
DESCRIPTION:Join us for a variety of activities during the Spoon River Scenic Drive. *Learn what life was like on the Illinois frontier at the Rendezvous Encampment hosted by the Mackinaw Valley Longriffles. *View flint knapping demonstrations and learn about the different techniques these craftsmen use to create various stone tools. *Enjoy live music by the Bug Trotters\, a group of friends who get together to play Old-Time Square Dance music. They will provide lively tunes played on fiddle\, banjo\, guitar\, mandolin\, and harmonica. Admission to the Museum as well as all weekend event activities is free. Donations are appreciated. Participants should dress appropriately for the weather as much of these activities will be held outdoors.
X-ALT-DESC;FMTTYPE=text/html:Join us for a variety of activities during the Spoon River Scenic Drive. *Learn what life was like on the Illinois frontier at the Rendezvous Encampment hosted by the Mackinaw Valley Longriffles. *View flint knapping demonstrations and learn about the different techniques these craftsmen use to create various stone tools. *Enjoy live music by the Bug Trotters\, a group of friends who get together to play Old-Time Square Dance music. They will provide lively tunes played on fiddle\, banjo\, guitar\, mandolin\, and harmonica. Admission to the Museum as well as all weekend event activities is free. Donations are appreciated. Participants should dress appropriately for the weather as much of these activities will be held outdoors.
LOCATION:Dickson Mounds Museum
UID:e.1688.5746
SEQUENCE:3
DTSTAMP:20260426T031728Z
URL:https://members.cantonillinois.org/events/details/dickson-mounds-spoon-river-valley-scenic-drive-activities-5746
END:VEVENT

END:VCALENDAR
