BEGIN:VCALENDAR
VERSION:2.0
PRODID:-//ChamberMaster//Event Calendar 2.0//EN
METHOD:PUBLISH
X-PUBLISHED-TTL:P3D
REFRESH-INTERVAL:P3D
CALSCALE:GREGORIAN
BEGIN:VEVENT
DTSTART:20210429T170000Z
DTEND:20210429T180000Z
X-MICROSOFT-CDO-ALLDAYEVENT:FALSE
SUMMARY:Effective Communication Strategies & Fun Activities for Caregivers and Their Loved Ones
DESCRIPTION:Communication is more than just talking and listening   it's also about sending and receiving messages through attitude\, tone of voice\, and body language. As the disease progresses\, individuals living with Alzheimer's or other dementias lose the ability to use words\, but families can find new ways to connect. Join us to explore how communication changes when someone is living with Alzheimer's\, learn how to interpret the verbal and behavioral communication\, and identify strategies to help you connect and communicate at each stage of the disease. Followed by\, Fun Activities for Caregivers and Their Loved Ones. With COVID-19 still hanging on\, you may feel like you are running out of things to do with your loved one living with dementia. Kelly Shiraki\, Director of Memory Care Services\, Petersen Health Care\, will share more fun ways to connect with and keep your loved one engaged and happy. Registration: http://bit.ly/30zrqCz Or 24/7 HELPline 800.272.3900
X-ALT-DESC;FMTTYPE=text/html:Communication is more than just talking and listening &mdash\; it&rsquo\;s also about sending and receiving messages through attitude\, tone of voice\, and body language. As the disease progresses\, individuals living with Alzheimer&rsquo\;s or other dementias lose the ability to use words\, but families can find new ways to connect. Join us to explore how communication changes when someone is living with Alzheimer&rsquo\;s\, learn how to interpret the verbal and behavioral communication\, and identify strategies to help you connect and communicate at each stage of the disease. Followed by\, Fun Activities for Caregivers and Their Loved Ones. With COVID-19 still hanging on\, you may feel like you are running out of things to do with your loved one living with dementia. Kelly Shiraki\, Director of Memory Care Services\, Petersen Health Care\, will share more fun ways to connect with and keep your loved one engaged and happy. Registration: http://bit.ly/30zrqCz Or 24/7 HELPline 800.272.3900
LOCATION:Listen by Phone or Join via Zoom Webinar
UID:e.1688.7559
SEQUENCE:3
DTSTAMP:20260422T170427Z
URL:https://members.cantonillinois.org/events/details/effective-communication-strategies-fun-activities-for-caregivers-and-their-loved-ones-7559
END:VEVENT

END:VCALENDAR
