BEGIN:VCALENDAR
VERSION:2.0
PRODID:-//ChamberMaster//Event Calendar 2.0//EN
METHOD:PUBLISH
X-PUBLISHED-TTL:P3D
REFRESH-INTERVAL:P3D
CALSCALE:GREGORIAN
BEGIN:VEVENT
DTSTART:20211212T000000Z
DTEND:20211212T040000Z
X-MICROSOFT-CDO-ALLDAYEVENT:FALSE
SUMMARY:Elks Lodge Charity Ball
DESCRIPTION:Charity Ball--includes cocktails\, hors d'oeuvres\, dinner\, cocktails\, dancing and auction.  All proceeds of Charity Ball help purchase food baskets for local families and support other charity activities throughout the year.
X-ALT-DESC;FMTTYPE=text/html:Charity Ball--includes cocktails\, hors d&#39\;oeuvres\, dinner\, cocktails\, dancing and auction.&nbsp\; All proceeds of Charity Ball help purchase food baskets for local families and support other charity activities throughout the year.
LOCATION:Canton Elks Lodge 61 West Elm Street Canton\, IL 61520
UID:e.1688.7698
SEQUENCE:3
DTSTAMP:20260422T014259Z
URL:https://members.cantonillinois.org/events/details/elks-lodge-charity-ball-7698
END:VEVENT

END:VCALENDAR
