BEGIN:VCALENDAR
VERSION:2.0
PRODID:-//ChamberMaster//Event Calendar 2.0//EN
METHOD:PUBLISH
X-PUBLISHED-TTL:P3D
REFRESH-INTERVAL:P3D
CALSCALE:GREGORIAN
BEGIN:VEVENT
DTSTART:20181125T190000Z
DTEND:20181125T220000Z
X-MICROSOFT-CDO-ALLDAYEVENT:FALSE
SUMMARY:Elks National Hoop Shoot Free Throw Contest
DESCRIPTION:Elks National HOOP SHOOT Free Throw Contest is funded by the Elks National Foundation\, is a free throw contest for children ages 8 to 13. Contestants' age-groups are determined by their age as of April 1\, 2019.
X-ALT-DESC;FMTTYPE=text/html:Elks National HOOP SHOOT Free Throw Contest is funded by the Elks National Foundation\, is a free throw contest for children ages 8 to 13. Contestants&#39\; age-groups are determined by their age as of April 1\, 2019.&nbsp\;
LOCATION:St. Mary's Gym 367 N. 3rd Avenue in Canton
UID:e.1688.5935
SEQUENCE:3
DTSTAMP:20260426T013658Z
URL:https://members.cantonillinois.org/events/details/elks-national-hoop-shoot-free-throw-contest-5935
END:VEVENT

END:VCALENDAR
