BEGIN:VCALENDAR
VERSION:2.0
PRODID:-//ChamberMaster//Event Calendar 2.0//EN
METHOD:PUBLISH
X-PUBLISHED-TTL:P3D
REFRESH-INTERVAL:P3D
CALSCALE:GREGORIAN
BEGIN:VEVENT
DTSTART:20230406T000000Z
DTEND:20230406T013000Z
X-MICROSOFT-CDO-ALLDAYEVENT:FALSE
SUMMARY:Evangelical Free Church's Passover Meal
DESCRIPTION:Join us as we walk through a full passover meal highlighting the significance of this day and getting a first hand idea of what the week of Christ's crucifixion would have entailed. Seating limited to 85 people. Contact the church for a seat reservation.
X-ALT-DESC;FMTTYPE=text/html:<span style="color: rgb(5\, 5\, 5)\; font-family: &quot\;Segoe UI Historic&quot\;\, &quot\;Segoe UI&quot\;\, Helvetica\, Arial\, sans-serif\; font-size: 15px\; white-space: pre-wrap\;">Join us as we walk through a full passover meal highlighting the significance of this day and getting a first hand idea of what the week of Christ&#39\;s crucifixion would have entailed. Seating limited to 85 people. Contact the church for a seat reservation. </span>
LOCATION:Evangelical Free Church 1300 E. Chestnut Street Canton\, IL 61520
UID:e.1688.7919
SEQUENCE:3
DTSTAMP:20260420T224937Z
URL:https://members.cantonillinois.org/events/details/evangelical-free-church-s-passover-meal-7919
END:VEVENT

END:VCALENDAR
