BEGIN:VCALENDAR
VERSION:2.0
PRODID:-//ChamberMaster//Event Calendar 2.0//EN
METHOD:PUBLISH
X-PUBLISHED-TTL:P3D
REFRESH-INTERVAL:P3D
CALSCALE:GREGORIAN
BEGIN:VEVENT
DTSTART:20181116T000000Z
DTEND:20181116T004500Z
X-MICROSOFT-CDO-ALLDAYEVENT:FALSE
SUMMARY:Family Reading Night at the Library
DESCRIPTION:Family Reading Night at Parlin Ingersoll Library.\n\n\n\nThis year's theme is Catch a Dragon by the Tale! We would like to encourage families to spend quality time reading together. We will feature stories\, activities and crafts for the whole family to enjoy. \n\n\n\nSponsored by Illinois Secretary of State and State Librarian\, Jesse White\, and the Illinois Center for the Book. \n\n\n\nFamily Reading Night is an annual statewide event held the third Thursday in November to encourage families to spend quality time reading together. In celebration\, we are hosting a medieval spectacular!\n\n\n\nCome and share stories\, crafts and activities!
X-ALT-DESC;FMTTYPE=text/html:Family Reading Night at Parlin Ingersoll Library.<br />\n<br />\n<span style="font-family:calibri\,sans-serif\;"><span style="font-size:12.0pt\;">This year&rsquo\;s theme is Catch a Dragon by the Tale! We would like to encourage families to spend quality time reading together. We will feature stories\, activities and crafts for the whole family to enjoy.&nbsp\;</span></span><br />\n<br />\nSponsored by Illinois Secretary of State and State Librarian\, Jesse White\, and the Illinois Center for the Book.&nbsp\;<br />\n<br />\nFamily Reading Night is an annual statewide event held the third Thursday in November to encourage families to spend quality time reading together. In celebration\, we are hosting a medieval spectacular!<br />\n<br />\nCome and share stories\, crafts and activities!
LOCATION:Parlin Ingersoll Library West Chestnut & Avenue B in Canton
UID:e.1688.5726
SEQUENCE:3
DTSTAMP:20260426T013525Z
URL:https://members.cantonillinois.org/events/details/family-reading-night-at-the-library-5726
END:VEVENT

END:VCALENDAR
