BEGIN:VCALENDAR
VERSION:2.0
PRODID:-//ChamberMaster//Event Calendar 2.0//EN
METHOD:PUBLISH
X-PUBLISHED-TTL:P3D
REFRESH-INTERVAL:P3D
CALSCALE:GREGORIAN
BEGIN:VEVENT
DTSTART:20181013T230000Z
DTEND:20181014T040000Z
X-MICROSOFT-CDO-ALLDAYEVENT:FALSE
SUMMARY:Feel Like A Woman Event
DESCRIPTION:Enjoy an all Exclusive evening just for the ladies. Frozen and Time Photography and Design by Danie are hosting the event. Come enjoy of evening of fun. Drinks.. Snacks.. Just the Ladies.. Hair.. Makeup.. 3 to 5 edited Images of yourself . $60 for a night of pampering and fun. Danie will be doing quick hair do's. Makeup will be done . Frozen In Time Photography will be doing photos. Must respond and pay to hold a spot . No walk-ins. Will be a max number of 16 ladies to attend. For ages 21 and over. Just added to the event there will be a pickup from Wattys to take anyone that wants to go to Wattys and hear Spurs and Lace . So come and enjoy a ladies evening with pampering and fun. Reserve your spot by paying through PayPal .
X-ALT-DESC;FMTTYPE=text/html:<span style="color: rgb(29\, 33\, 41)\; font-family: Helvetica\, Arial\, sans-serif\; font-size: 14px\; background-color: rgb(255\, 255\, 255)\;">Enjoy an all Exclusive evening just for the ladies. Frozen and Time Photography and Design by Danie are hosting the event. Come enjoy of evening of fun. Drinks.. Snacks.. Just the Ladies.. Hair.. Makeup.. 3 to 5 edited Images of yourself . $60 for a night of pampering and fun. Danie will be doing quick hair do&rsquo\;s. Makeup will be done . Frozen In Time Photography will be doing photos. Must respond and pay to hold a spot . No walk-ins. Will be a max number of 16 ladies to attend. For ages 21 and over. Just added to the event there will be a pickup from Wattys to take anyone that wants to go to Wattys and hear Spurs and Lace . So come and enjoy a ladies evening with pampering and fun. Reserve your spot by paying through PayPal .&nbsp\;</span>
LOCATION:B'Designed Salon 70 N. Main Street\, Downtown Canton
UID:e.1688.5765
SEQUENCE:3
DTSTAMP:20260426T031600Z
URL:https://members.cantonillinois.org/events/details/feel-like-a-woman-event-5765
END:VEVENT

END:VCALENDAR
