BEGIN:VCALENDAR
VERSION:2.0
PRODID:-//ChamberMaster//Event Calendar 2.0//EN
METHOD:PUBLISH
X-PUBLISHED-TTL:P3D
REFRESH-INTERVAL:P3D
CALSCALE:GREGORIAN
BEGIN:VEVENT
DTSTART:20181027T223000Z
DTEND:20181028T013000Z
X-MICROSOFT-CDO-ALLDAYEVENT:FALSE
SUMMARY:Fighters and Survivors in Pink Benefit
DESCRIPTION:Fighters and Survivors in Pink Benefit is being put on by the Graham Hospital Foundation and partnering with Spoon River College. This fundraiser will help the Foundation to purchase a contour compression paddle to increase the comfort level for the new Hologic 3D mammograph unit at Graham Hospital. \n\n\n\nGina Morse from WEEK will be the MC for the night!\n\n\n\nAn attendee with reservations will be seated at their table and watch a "style show" and hear the amazing stories of the models' journey. Heavy appetizers and drinks will be served. There will be silent auction items\, chances on raffle items and fun games that will be a part of the evening. \n\n\n\nCome and join the fun!
X-ALT-DESC;FMTTYPE=text/html:Fighters and Survivors in Pink Benefit is being put on by the Graham Hospital Foundation and partnering with Spoon River College. This fundraiser will help the Foundation to purchase a contour compression paddle to increase the comfort level for the new Hologic 3D mammograph unit at Graham Hospital.&nbsp\;<br />\n<br />\nGina Morse from WEEK will be the MC for the night!<br />\n<br />\nAn attendee with reservations will be seated at their table and watch a &quot\;style show&quot\; and hear the amazing stories of the models&#39\; journey.&nbsp\;Heavy appetizers and drinks will be served. There will be silent auction items\, chances on raffle items and fun games that will be a part of the evening.&nbsp\;<br />\n<br />\nCome and join the fun!<br />\n<br />\n&nbsp\;
LOCATION:Spoon River College Multi Purpose Building 23235 N. County HWY 22 Outside of Canton
UID:e.1688.5435
SEQUENCE:3
DTSTAMP:20260426T031727Z
URL:https://members.cantonillinois.org/events/details/fighters-and-survivors-in-pink-benefit-5435
END:VEVENT

END:VCALENDAR
