BEGIN:VCALENDAR
VERSION:2.0
PRODID:-//ChamberMaster//Event Calendar 2.0//EN
METHOD:PUBLISH
X-PUBLISHED-TTL:P3D
REFRESH-INTERVAL:P3D
CALSCALE:GREGORIAN
BEGIN:VEVENT
DTSTART;VALUE=DATE:20220914
DTEND;VALUE=DATE:20220915
TRANSP:TRANSPARENT
X-MICROSOFT-CDO-ALLDAYEVENT:TRUE
SUMMARY:Friendship Festival
DESCRIPTION:Friendship Festival
X-ALT-DESC;FMTTYPE=text/html:Friendship Festival&nbsp\;
LOCATION:Fair Grounds - Linn Street - next to Linn Lanes Bowling Alley
UID:e.1688.7755
SEQUENCE:3
DTSTAMP:20260421T113007Z
URL:https://members.cantonillinois.org/events/details/friendship-festival-7755
END:VEVENT

END:VCALENDAR
