BEGIN:VCALENDAR
VERSION:2.0
PRODID:-//ChamberMaster//Event Calendar 2.0//EN
METHOD:PUBLISH
X-PUBLISHED-TTL:P3D
REFRESH-INTERVAL:P3D
CALSCALE:GREGORIAN
BEGIN:VEVENT
DTSTART:20220820T223000Z
DTEND:20220821T013000Z
X-MICROSOFT-CDO-ALLDAYEVENT:FALSE
SUMMARY:Fulton County Democrat Unity Dinner
DESCRIPTION:Fulton County Democrats Unity Dinner\n\nDoors 5:30\n\nDinner 6pm\n\n7pm Program\n\nTo reserve a seat/table or for sponsorsip info\, contact the Fulton County Democrats at 309-326-0688 or fultoncountyildems@gmail.com
X-ALT-DESC;FMTTYPE=text/html:Fulton County Democrats Unity Dinner<br />\nDoors 5:30<br />\nDinner 6pm<br />\n7pm Program<br />\nTo reserve a seat/table or for sponsorsip info\, contact the Fulton County Democrats at 309-326-0688 or fultoncountyildems@gmail.com
LOCATION:VFW\, 1200 S. 5th Ave.\, Canton\, IL
UID:e.1688.7767
SEQUENCE:3
DTSTAMP:20260421T112317Z
URL:https://members.cantonillinois.org/events/details/fulton-county-democrat-unity-dinner-7767
END:VEVENT

END:VCALENDAR
