BEGIN:VCALENDAR
VERSION:2.0
PRODID:-//ChamberMaster//Event Calendar 2.0//EN
METHOD:PUBLISH
X-PUBLISHED-TTL:P3D
REFRESH-INTERVAL:P3D
CALSCALE:GREGORIAN
BEGIN:VEVENT
DTSTART:20181025T220000Z
DTEND:20181025T230000Z
X-MICROSOFT-CDO-ALLDAYEVENT:FALSE
SUMMARY:Fulton-Mason Crisis Service
DESCRIPTION:Come to the Fulton-Mason Crisis Service free event for the Open House of our Canton office to view the office space\, be educated on the services that are provided through our agency and join staff for drinks and cookies.
X-ALT-DESC;FMTTYPE=text/html:Come to the Fulton-Mason Crisis Service free event for the Open House of our Canton office to view the office space\, be educated on the services that are provided through our agency and join staff for drinks and cookies.&nbsp\;
LOCATION:Fulton-Mason Crisis Service 1330 E. Ash in Canton
UID:e.1688.5837
SEQUENCE:3
DTSTAMP:20260426T031309Z
URL:https://members.cantonillinois.org/events/details/fulton-mason-crisis-service-5837
END:VEVENT

END:VCALENDAR
