BEGIN:VCALENDAR
VERSION:2.0
PRODID:-//ChamberMaster//Event Calendar 2.0//EN
METHOD:PUBLISH
X-PUBLISHED-TTL:P3D
REFRESH-INTERVAL:P3D
CALSCALE:GREGORIAN
BEGIN:VEVENT
DTSTART:20181118T010000Z
DTEND:20181118T040000Z
X-MICROSOFT-CDO-ALLDAYEVENT:FALSE
SUMMARY:Hickory Ridge Concert Series
DESCRIPTION:For more than 20 years\, people have gathered at Dickson Mounds on the third Saturday of every month for an evening of musical entertainment. Hosted by Chris Vallillo\, an accomplished musician and performer in his own right\, the series features Roots/Folk music and other genres offered by a talented variety of performers. November's performer is TBA. Doors open at 6:00 p.m. Adults $8\, kids $5. Visit http://ginridge.com/extras/hickory-ridge-concert-series/ for information about the artists.
X-ALT-DESC;FMTTYPE=text/html:For more than 20 years\, people have gathered at Dickson Mounds on the third Saturday of every month for an evening of musical entertainment. Hosted by Chris Vallillo\, an accomplished musician and performer in his own right\, the series features Roots/Folk music and other genres offered by a talented variety of performers. November&#39\;s performer is TBA. Doors open at 6:00 p.m. Adults $8\, kids $5. Visit http://ginridge.com/extras/hickory-ridge-concert-series/ for information about the artists.
LOCATION:Dickson Mounds Museum 10956 N. Dickson Mounds Road Lewistown\, IL 61542
UID:e.1688.5758
SEQUENCE:3
DTSTAMP:20260426T013531Z
URL:https://members.cantonillinois.org/events/details/hickory-ridge-concert-series-11-17-2018-5758
END:VEVENT

END:VCALENDAR
