BEGIN:VCALENDAR
VERSION:2.0
PRODID:-//ChamberMaster//Event Calendar 2.0//EN
METHOD:PUBLISH
X-PUBLISHED-TTL:P3D
REFRESH-INTERVAL:P3D
CALSCALE:GREGORIAN
BEGIN:VEVENT
DTSTART:20181027T140000Z
DTEND:20181027T153000Z
X-MICROSOFT-CDO-ALLDAYEVENT:FALSE
SUMMARY:JFL Home Game - Canton JV
DESCRIPTION:Canton JFL Home Game - Canton JV Team
X-ALT-DESC;FMTTYPE=text/html:Canton JFL Home Game - Canton JV Team
LOCATION:JFL Football Field
UID:e.1688.5812
SEQUENCE:3
DTSTAMP:20260426T031552Z
URL:https://members.cantonillinois.org/events/details/jfl-home-game-canton-jv-5812
END:VEVENT

END:VCALENDAR
