BEGIN:VCALENDAR
VERSION:2.0
PRODID:-//ChamberMaster//Event Calendar 2.0//EN
METHOD:PUBLISH
X-PUBLISHED-TTL:P3D
REFRESH-INTERVAL:P3D
CALSCALE:GREGORIAN
BEGIN:VEVENT
DTSTART:20181027T154500Z
DTEND:20181027T173000Z
X-MICROSOFT-CDO-ALLDAYEVENT:FALSE
SUMMARY:JFL Home Game - Canton Pee Wee
DESCRIPTION:Canton JFL Home Game - Canton Pee Wee Team
X-ALT-DESC;FMTTYPE=text/html:Canton JFL Home Game - Canton Pee Wee Team
LOCATION:JFL Football Field
UID:e.1688.5813
SEQUENCE:3
DTSTAMP:20260426T031437Z
URL:https://members.cantonillinois.org/events/details/jfl-home-game-canton-pee-wee-5813
END:VEVENT

END:VCALENDAR
